BEGIN:VCALENDAR
VERSION:2.0
PRODID:-//Copper Meadows Eventing - ECPv6.10.1.1//NONSGML v1.0//EN
CALSCALE:GREGORIAN
METHOD:PUBLISH
X-WR-CALNAME:Copper Meadows Eventing
X-ORIGINAL-URL:https://coppermeadowseventing.com
X-WR-CALDESC:Events for Copper Meadows Eventing
REFRESH-INTERVAL;VALUE=DURATION:PT1H
X-Robots-Tag:noindex
X-PUBLISHED-TTL:PT1H
BEGIN:VTIMEZONE
TZID:America/Los_Angeles
BEGIN:DAYLIGHT
TZOFFSETFROM:-0800
TZOFFSETTO:-0700
TZNAME:PDT
DTSTART:20190310T100000
END:DAYLIGHT
BEGIN:STANDARD
TZOFFSETFROM:-0700
TZOFFSETTO:-0800
TZNAME:PST
DTSTART:20191103T090000
END:STANDARD
BEGIN:DAYLIGHT
TZOFFSETFROM:-0800
TZOFFSETTO:-0700
TZNAME:PDT
DTSTART:20200308T100000
END:DAYLIGHT
BEGIN:STANDARD
TZOFFSETFROM:-0700
TZOFFSETTO:-0800
TZNAME:PST
DTSTART:20201101T090000
END:STANDARD
BEGIN:DAYLIGHT
TZOFFSETFROM:-0800
TZOFFSETTO:-0700
TZNAME:PDT
DTSTART:20210314T100000
END:DAYLIGHT
BEGIN:STANDARD
TZOFFSETFROM:-0700
TZOFFSETTO:-0800
TZNAME:PST
DTSTART:20211107T090000
END:STANDARD
END:VTIMEZONE
BEGIN:VEVENT
DTSTART;VALUE=DATE:20210706
DTEND;VALUE=DATE:20210712
DTSTAMP:20260422T021341
CREATED:20201103T202903Z
LAST-MODIFIED:20201112T165306Z
UID:705-1625529600-1626047999@coppermeadowseventing.com
SUMMARY:Summer Camp
DESCRIPTION:
URL:https://coppermeadowseventing.com/event/summer-camp-2/
CATEGORIES:Clinics
END:VEVENT
BEGIN:VEVENT
DTSTART;VALUE=DATE:20210627
DTEND;VALUE=DATE:20210628
DTSTAMP:20260422T021341
CREATED:20201103T202841Z
LAST-MODIFIED:20201112T165255Z
UID:703-1624752000-1624838399@coppermeadowseventing.com
SUMMARY:Derby
DESCRIPTION:
URL:https://coppermeadowseventing.com/event/derby/
CATEGORIES:Unrecognized Shows
END:VEVENT
BEGIN:VEVENT
DTSTART;VALUE=DATE:20210601
DTEND;VALUE=DATE:20210607
DTSTAMP:20260422T021341
CREATED:20201103T202821Z
LAST-MODIFIED:20201112T165238Z
UID:701-1622505600-1623023999@coppermeadowseventing.com
SUMMARY:Copper Meadows' Fundraiser
DESCRIPTION:
URL:https://coppermeadowseventing.com/event/copper-meadows-fundraiser/
CATEGORIES:Other
END:VEVENT
BEGIN:VEVENT
DTSTART;VALUE=DATE:20210509
DTEND;VALUE=DATE:20210510
DTSTAMP:20260422T021341
CREATED:20201103T202745Z
LAST-MODIFIED:20201112T165050Z
UID:699-1620518400-1620604799@coppermeadowseventing.com
SUMMARY:Sun Series One Day Show
DESCRIPTION:
URL:https://coppermeadowseventing.com/event/sun-series-one-day-show-4/
CATEGORIES:Unrecognized Shows
END:VEVENT
BEGIN:VEVENT
DTSTART;VALUE=DATE:20210508
DTEND;VALUE=DATE:20210509
DTSTAMP:20260422T021341
CREATED:20201103T202721Z
LAST-MODIFIED:20201112T165043Z
UID:696-1620432000-1620518399@coppermeadowseventing.com
SUMMARY:Look B4 You Leap Clinic
DESCRIPTION:
URL:https://coppermeadowseventing.com/event/look-b4-you-leap-clinic-7/
CATEGORIES:Clinics
END:VEVENT
BEGIN:VEVENT
DTSTART;VALUE=DATE:20210404
DTEND;VALUE=DATE:20210405
DTSTAMP:20260422T021341
CREATED:20201103T202635Z
LAST-MODIFIED:20201112T164852Z
UID:694-1617494400-1617580799@coppermeadowseventing.com
SUMMARY:Sun Series One Day Show
DESCRIPTION:
URL:https://coppermeadowseventing.com/event/sun-series-one-day-show-3/
CATEGORIES:Unrecognized Shows
END:VEVENT
BEGIN:VEVENT
DTSTART;VALUE=DATE:20210403
DTEND;VALUE=DATE:20210404
DTSTAMP:20260422T021341
CREATED:20201112T164959Z
LAST-MODIFIED:20201112T164959Z
UID:725-1617408000-1617494399@coppermeadowseventing.com
SUMMARY:Look B4 You Leap Clinic
DESCRIPTION:
URL:https://coppermeadowseventing.com/event/look-b4-you-leap-clinic-6/
LOCATION:Copper Meadows\, 633 Montecito Way\, Ramona\, California\, 92065\, United States
CATEGORIES:Clinics
END:VEVENT
BEGIN:VEVENT
DTSTART;VALUE=DATE:20210312
DTEND;VALUE=DATE:20210315
DTSTAMP:20260422T021341
CREATED:20201103T202521Z
LAST-MODIFIED:20201112T164827Z
UID:690-1615507200-1615766399@coppermeadowseventing.com
SUMMARY:Copper Meadows' Spring Horse Trials
DESCRIPTION:
URL:https://coppermeadowseventing.com/event/copper-meadows-spring-horse-trials/
LOCATION:Copper Meadows\, 633 Montecito Way\, Ramona\, California\, 92065\, United States
CATEGORIES:Recognized Events
END:VEVENT
BEGIN:VEVENT
DTSTART;VALUE=DATE:20210223
DTEND;VALUE=DATE:20210224
DTSTAMP:20260422T021341
CREATED:20201112T205036Z
LAST-MODIFIED:20201112T205036Z
UID:732-1614038400-1614124799@coppermeadowseventing.com
SUMMARY:Close Date - Copper Meadows March Horse Trials
DESCRIPTION:
URL:https://coppermeadowseventing.com/event/close-date-copper-meadows-march-horse-trials/
LOCATION:Copper Meadows\, 633 Montecito Way\, Ramona\, California\, 92065\, United States
CATEGORIES:Open/Close Date
END:VEVENT
BEGIN:VEVENT
DTSTART;VALUE=DATE:20210207
DTEND;VALUE=DATE:20210208
DTSTAMP:20260422T021341
CREATED:20201103T202432Z
LAST-MODIFIED:20201112T164814Z
UID:688-1612656000-1612742399@coppermeadowseventing.com
SUMMARY:Sun Series One Day Show
DESCRIPTION:
URL:https://coppermeadowseventing.com/event/sun-series-one-day-show-2/
CATEGORIES:Unrecognized Shows
END:VEVENT
BEGIN:VEVENT
DTSTART;VALUE=DATE:20210206
DTEND;VALUE=DATE:20210207
DTSTAMP:20260422T021341
CREATED:20201103T202401Z
LAST-MODIFIED:20201112T164755Z
UID:686-1612569600-1612655999@coppermeadowseventing.com
SUMMARY:Look B4 You Leap Clinic
DESCRIPTION:
URL:https://coppermeadowseventing.com/event/look-b4-you-leap-clinic-5/
CATEGORIES:Clinics
END:VEVENT
BEGIN:VEVENT
DTSTART;VALUE=DATE:20210126
DTEND;VALUE=DATE:20210127
DTSTAMP:20260422T021341
CREATED:20201112T205001Z
LAST-MODIFIED:20201112T205001Z
UID:730-1611619200-1611705599@coppermeadowseventing.com
SUMMARY:Open Date - Copper Meadows March Horse Trials
DESCRIPTION:
URL:https://coppermeadowseventing.com/event/open-date-copper-meadows-march-horse-trials/
LOCATION:Copper Meadows\, 633 Montecito Way\, Ramona\, California\, 92065\, United States
CATEGORIES:Open/Close Date
END:VEVENT
BEGIN:VEVENT
DTSTART;VALUE=DATE:20210110
DTEND;VALUE=DATE:20210111
DTSTAMP:20260422T021341
CREATED:20201103T202336Z
LAST-MODIFIED:20201112T164730Z
UID:684-1610236800-1610323199@coppermeadowseventing.com
SUMMARY:Sun Series One Day Show
DESCRIPTION:
URL:https://coppermeadowseventing.com/event/sun-series-one-day-show/
CATEGORIES:Unrecognized Shows
END:VEVENT
BEGIN:VEVENT
DTSTART;VALUE=DATE:20210109
DTEND;VALUE=DATE:20210110
DTSTAMP:20260422T021341
CREATED:20201103T202315Z
LAST-MODIFIED:20201112T164703Z
UID:682-1610150400-1610236799@coppermeadowseventing.com
SUMMARY:Look B4 You Leap Clinic
DESCRIPTION:
URL:https://coppermeadowseventing.com/event/look-b4-you-leap-clinic-4/
CATEGORIES:Clinics
END:VEVENT
BEGIN:VEVENT
DTSTART;VALUE=DATE:20201108
DTEND;VALUE=DATE:20201109
DTSTAMP:20260422T021341
CREATED:20190929T183220Z
LAST-MODIFIED:20201112T164446Z
UID:615-1604793600-1604879999@coppermeadowseventing.com
SUMMARY:One-Day Horse Trials
DESCRIPTION:
URL:https://coppermeadowseventing.com/event/one-day-horse-trials-6/
LOCATION:Copper Meadows\, 633 Montecito Way\, Ramona\, California\, 92065\, United States
CATEGORIES:Unrecognized Shows
END:VEVENT
BEGIN:VEVENT
DTSTART;VALUE=DATE:20201107
DTEND;VALUE=DATE:20201108
DTSTAMP:20260422T021341
CREATED:20190929T183134Z
LAST-MODIFIED:20191202T191302Z
UID:612-1604707200-1604793599@coppermeadowseventing.com
SUMMARY:Look B4 You Leap
DESCRIPTION:
URL:https://coppermeadowseventing.com/event/look-b4-you-leap-8/
LOCATION:Copper Meadows\, 633 Montecito Way\, Ramona\, California\, 92065\, United States
CATEGORIES:Clinics
END:VEVENT
BEGIN:VEVENT
DTSTART;VALUE=DATE:20201025
DTEND;VALUE=DATE:20201026
DTSTAMP:20260422T021341
CREATED:20190929T183059Z
LAST-MODIFIED:20190929T183059Z
UID:610-1603584000-1603670399@coppermeadowseventing.com
SUMMARY:One-Day Horse Trials
DESCRIPTION:
URL:https://coppermeadowseventing.com/event/one-day-horse-trials-5/
LOCATION:Copper Meadows\, 633 Montecito Way\, Ramona\, California\, 92065\, United States
CATEGORIES:Unrecognized Shows
END:VEVENT
BEGIN:VEVENT
DTSTART;VALUE=DATE:20201024
DTEND;VALUE=DATE:20201025
DTSTAMP:20260422T021341
CREATED:20190929T183019Z
LAST-MODIFIED:20190929T183019Z
UID:608-1603497600-1603583999@coppermeadowseventing.com
SUMMARY:Look B4 You Leap
DESCRIPTION:
URL:https://coppermeadowseventing.com/event/look-b4-you-leap-7/
LOCATION:Copper Meadows\, 633 Montecito Way\, Ramona\, California\, 92065\, United States
CATEGORIES:Clinics
END:VEVENT
BEGIN:VEVENT
DTSTART;VALUE=DATE:20200905
DTEND;VALUE=DATE:20200907
DTSTAMP:20260422T021341
CREATED:20190929T182945Z
LAST-MODIFIED:20200730T155912Z
UID:604-1599264000-1599436799@coppermeadowseventing.com
SUMMARY:Copper Meadows USEA Recognized Horse Trial
DESCRIPTION:
URL:https://coppermeadowseventing.com/event/copper-meadows-usea-recognized-horse-trial/
LOCATION:Copper Meadows\, 633 Montecito Way\, Ramona\, California\, 92065\, United States
CATEGORIES:Recognized Events
END:VEVENT
BEGIN:VEVENT
DTSTART;VALUE=DATE:20200711
DTEND;VALUE=DATE:20200713
DTSTAMP:20260422T021341
CREATED:20190929T182905Z
LAST-MODIFIED:20200625T160650Z
UID:602-1594425600-1594598399@coppermeadowseventing.com
SUMMARY:July Schooling Show
DESCRIPTION:We are running our July one-day! We’ve decided to split the event over two days to keep attendance low each day\, so will have a Saturday and Sunday event on the following schedule: \nDressage: 8:00 – 12:00\nShow jumping (open gate): 9:00 – 12:30\nCross-country (open gate) : 9:30 – 1:00 \nWe have Terri Rocovich as our judge both days. Sign ups for dressage times will be available on July 4\, please check back for the link. \nWhile we won’t be offering a Look B4 You Leap clinic on Saturday\, the cross-country will be open for trainers to school Friday all day\, and Saturday after 1:30pm. Please contact a local trainer to set up a time to come out and prepare for the event!
URL:https://coppermeadowseventing.com/event/one-day-horse-trials-4/
LOCATION:Copper Meadows\, 633 Montecito Way\, Ramona\, California\, 92065\, United States
CATEGORIES:Unrecognized Shows
END:VEVENT
BEGIN:VEVENT
DTSTART;VALUE=DATE:20200707
DTEND;VALUE=DATE:20200711
DTSTAMP:20260422T021341
CREATED:20190929T182755Z
LAST-MODIFIED:20200625T160809Z
UID:597-1594080000-1594425599@coppermeadowseventing.com
SUMMARY:Adult Summer Camp
DESCRIPTION:Adult Summer Camp will be held from July 7th – 10th! \nCost $500 \nJoin us for a fun week of Adult Summer Camp at Copper Meadows! Campers will ride twice daily with multiple trainers including Taren Hoffos\, Robin Garrett\, and Olivia Loiacono-Putrino\, and have access to fun and informative activities including: yoga\, wound care talk with Dr. Oman from East County Large Animal Practice\, Farrier Skills 101 with Patrick Kroenke\, and more! \nSign up early as space is limited: tarenhoffos@gmail.com
URL:https://coppermeadowseventing.com/event/summer-camp/
LOCATION:Copper Meadows\, 633 Montecito Way\, Ramona\, California\, 92065\, United States
CATEGORIES:Other
END:VEVENT
BEGIN:VEVENT
DTSTART;VALUE=DATE:20200602
DTEND;VALUE=DATE:20200608
DTSTAMP:20260422T021341
CREATED:20200526T161439Z
LAST-MODIFIED:20200526T163223Z
UID:658-1591056000-1591574399@coppermeadowseventing.com
SUMMARY:XC Week
DESCRIPTION:June 2-7\, 2020 Copper Meadows is hosting a schooling week. We are prepping our cross-country course like we do for a horse trials\, with flags\, flowers\, and good footing. Come school and experience the new cross-country tracks! \nSpecifics:\n– Riders must school with a trainer who has current insurance with Copper Meadows.\n– We will be adhering to social distancing measures by scheduling trainers on specific days and times to ensure that groups are small. Masks must be worn whenever unmounted.\n– This event can be used as one option for your March 2020 cancelled Horse Trials credit! Please email Taren at tarenhoffos@gmail.com to learn more. \nCurrently we have these trainers scheduled for these days:\nJune 2 – Olivia Loiacono-Putrino\, Jennifer Hawthorne\nJune 3 – Hawley Bennett\, Nick Cwick\, Stacia Arnold\nJune 4 – Tamie Smith\, Kaylawna Smith\, Rebecca Farley\nJune 6 – Jennifer Wooten\, Auburn Excell\, Lisa Sabo\, McKenzie Rollins\, Jen Johnson\nJune 7 – Lisa Sabo \nWe’ve got more trainers signing up\, check back with us for a full calendar of coaches! Looking forward to getting back into the swing of things in Area VI Eventing! \nCost to school is $75 per day to Copper\, but you must sign up with the trainers listed above directly and their individual coaching fees still apply.
URL:https://coppermeadowseventing.com/event/xc-week/
END:VEVENT
BEGIN:VEVENT
DTSTART;VALUE=DATE:20200517
DTEND;VALUE=DATE:20200518
DTSTAMP:20260422T021341
CREATED:20190929T182613Z
LAST-MODIFIED:20200219T012044Z
UID:591-1589673600-1589759999@coppermeadowseventing.com
SUMMARY:Derby
DESCRIPTION:
URL:https://coppermeadowseventing.com/event/derby-2/
CATEGORIES:Unrecognized Shows
END:VEVENT
BEGIN:VEVENT
DTSTART;VALUE=DATE:20200209
DTEND;VALUE=DATE:20200210
DTSTAMP:20260422T021341
CREATED:20190929T182359Z
LAST-MODIFIED:20190929T182359Z
UID:583-1581206400-1581292799@coppermeadowseventing.com
SUMMARY:One-Day Horse Trials
DESCRIPTION:
URL:https://coppermeadowseventing.com/event/one-day-horse-trials-2/
LOCATION:Copper Meadows\, 633 Montecito Way\, Ramona\, California\, 92065\, United States
CATEGORIES:Unrecognized Shows
END:VEVENT
BEGIN:VEVENT
DTSTART;VALUE=DATE:20200208
DTEND;VALUE=DATE:20200209
DTSTAMP:20260422T021341
CREATED:20190929T182319Z
LAST-MODIFIED:20190929T182319Z
UID:581-1581120000-1581206399@coppermeadowseventing.com
SUMMARY:Look B4 You Leap
DESCRIPTION:
URL:https://coppermeadowseventing.com/event/look-b4-you-leap-2/
LOCATION:Copper Meadows\, 633 Montecito Way\, Ramona\, California\, 92065\, United States
CATEGORIES:Clinics
END:VEVENT
BEGIN:VEVENT
DTSTART;VALUE=DATE:20200112
DTEND;VALUE=DATE:20200113
DTSTAMP:20260422T021341
CREATED:20190929T182244Z
LAST-MODIFIED:20190929T182244Z
UID:579-1578787200-1578873599@coppermeadowseventing.com
SUMMARY:One-Day Horse Trials
DESCRIPTION:
URL:https://coppermeadowseventing.com/event/one-day-horse-trials/
LOCATION:Copper Meadows\, 633 Montecito Way\, Ramona\, California\, 92065\, United States
CATEGORIES:Unrecognized Shows
END:VEVENT
BEGIN:VEVENT
DTSTART;VALUE=DATE:20200111
DTEND;VALUE=DATE:20200112
DTSTAMP:20260422T021341
CREATED:20190929T182210Z
LAST-MODIFIED:20190929T182210Z
UID:577-1578700800-1578787199@coppermeadowseventing.com
SUMMARY:Look B4 You Leap
DESCRIPTION:
URL:https://coppermeadowseventing.com/event/look-b4-you-leap/
LOCATION:Copper Meadows\, 633 Montecito Way\, Ramona\, California\, 92065\, United States
CATEGORIES:Clinics
END:VEVENT
BEGIN:VEVENT
DTSTART;VALUE=DATE:20191109
DTEND;VALUE=DATE:20191111
DTSTAMP:20260422T021341
CREATED:20181021T173532Z
LAST-MODIFIED:20181209T194503Z
UID:495-1573257600-1573430399@coppermeadowseventing.com
SUMMARY:Sun Series
DESCRIPTION:
URL:https://coppermeadowseventing.com/event/sun-series-one-day-horse-trials-6/
CATEGORIES:Unrecognized Shows
END:VEVENT
BEGIN:VEVENT
DTSTART;VALUE=DATE:20191026
DTEND;VALUE=DATE:20191028
DTSTAMP:20260422T021341
CREATED:20181021T173447Z
LAST-MODIFIED:20181209T194425Z
UID:493-1572048000-1572220799@coppermeadowseventing.com
SUMMARY:Sun Series
DESCRIPTION:
URL:https://coppermeadowseventing.com/event/look-b4-you-leap-6/
CATEGORIES:Unrecognized Shows
END:VEVENT
BEGIN:VEVENT
DTSTART;VALUE=DATE:20190907
DTEND;VALUE=DATE:20190909
DTSTAMP:20260422T021341
CREATED:20181021T173815Z
LAST-MODIFIED:20181209T194303Z
UID:499-1567814400-1567987199@coppermeadowseventing.com
SUMMARY:Sun Series
DESCRIPTION:
URL:https://coppermeadowseventing.com/event/copper-meadow-h-t/
CATEGORIES:Unrecognized Shows
END:VEVENT
END:VCALENDAR