BEGIN:VCALENDAR
VERSION:2.0
PRODID:-//Copper Meadows Eventing - ECPv6.10.1.1//NONSGML v1.0//EN
CALSCALE:GREGORIAN
METHOD:PUBLISH
X-WR-CALNAME:Copper Meadows Eventing
X-ORIGINAL-URL:https://coppermeadowseventing.com
X-WR-CALDESC:Events for Copper Meadows Eventing
REFRESH-INTERVAL;VALUE=DURATION:PT1H
X-Robots-Tag:noindex
X-PUBLISHED-TTL:PT1H
BEGIN:VTIMEZONE
TZID:America/Los_Angeles
BEGIN:DAYLIGHT
TZOFFSETFROM:-0800
TZOFFSETTO:-0700
TZNAME:PDT
DTSTART:20180311T100000
END:DAYLIGHT
BEGIN:STANDARD
TZOFFSETFROM:-0700
TZOFFSETTO:-0800
TZNAME:PST
DTSTART:20181104T090000
END:STANDARD
BEGIN:DAYLIGHT
TZOFFSETFROM:-0800
TZOFFSETTO:-0700
TZNAME:PDT
DTSTART:20190310T100000
END:DAYLIGHT
BEGIN:STANDARD
TZOFFSETFROM:-0700
TZOFFSETTO:-0800
TZNAME:PST
DTSTART:20191103T090000
END:STANDARD
END:VTIMEZONE
BEGIN:VEVENT
DTSTART;VALUE=DATE:20190226
DTEND;VALUE=DATE:20190227
DTSTAMP:20260422T053459
CREATED:20181021T174811Z
LAST-MODIFIED:20181226T172040Z
UID:506-1551139200-1551225599@coppermeadowseventing.com
SUMMARY:Close Date: Copper Meadows H.T.
DESCRIPTION:
URL:https://coppermeadowseventing.com/event/close-date-copper-meadows-h-t/
LOCATION:Copper Meadows\, 633 Montecito Way\, Ramona\, California\, 92065\, United States
CATEGORIES:Open/Close Date
END:VEVENT
BEGIN:VEVENT
DTSTART;VALUE=DATE:20190209
DTEND;VALUE=DATE:20190211
DTSTAMP:20260422T053459
CREATED:20181021T171702Z
LAST-MODIFIED:20181209T193733Z
UID:469-1549670400-1549843199@coppermeadowseventing.com
SUMMARY:Sun Series
DESCRIPTION:
URL:https://coppermeadowseventing.com/event/sun-series-one-day-horse-trials/
LOCATION:Copper Meadows\, 633 Montecito Way\, Ramona\, California\, 92065\, United States
CATEGORIES:Unrecognized Shows
END:VEVENT
BEGIN:VEVENT
DTSTART;VALUE=DATE:20190129
DTEND;VALUE=DATE:20190130
DTSTAMP:20260422T053459
CREATED:20181021T174720Z
LAST-MODIFIED:20181226T172117Z
UID:504-1548720000-1548806399@coppermeadowseventing.com
SUMMARY:Open Date: Copper Meadow H.T.
DESCRIPTION:
URL:https://coppermeadowseventing.com/event/open-date-copper-meadow-h-t/
LOCATION:Copper Meadows\, 633 Montecito Way\, Ramona\, California\, 92065\, United States
CATEGORIES:Open/Close Date
END:VEVENT
BEGIN:VEVENT
DTSTART;VALUE=DATE:20190113
DTEND;VALUE=DATE:20190114
DTSTAMP:20260422T053459
CREATED:20181209T193307Z
LAST-MODIFIED:20181209T193307Z
UID:514-1547337600-1547423999@coppermeadowseventing.com
SUMMARY:Copper Meadows Derby
DESCRIPTION:
URL:https://coppermeadowseventing.com/event/copper-meadows-derby/
LOCATION:Copper Meadows\, 633 Montecito Way\, Ramona\, California\, 92065\, United States
CATEGORIES:Unrecognized Shows
END:VEVENT
BEGIN:VEVENT
DTSTART;VALUE=DATE:20181202
DTEND;VALUE=DATE:20181203
DTSTAMP:20260422T053459
CREATED:20181021T175035Z
LAST-MODIFIED:20181021T175035Z
UID:508-1543708800-1543795199@coppermeadowseventing.com
SUMMARY:Copper Meadows Derby
DESCRIPTION:
URL:https://coppermeadowseventing.com/event/copper-meadows-derby-3/
LOCATION:Copper Meadows\, 633 Montecito Way\, Ramona\, California\, 92065\, United States
CATEGORIES:Unrecognized Shows
END:VEVENT
BEGIN:VEVENT
DTSTART;VALUE=DATE:20181118
DTEND;VALUE=DATE:20181119
DTSTAMP:20260422T053459
CREATED:20181016T155425Z
LAST-MODIFIED:20181209T194557Z
UID:456-1542499200-1542585599@coppermeadowseventing.com
SUMMARY:Sun Series
DESCRIPTION:
URL:https://coppermeadowseventing.com/event/sun-series-one-day-horse-trial-2/
CATEGORIES:Unrecognized Shows
END:VEVENT
BEGIN:VEVENT
DTSTART;VALUE=DATE:20181117
DTEND;VALUE=DATE:20181118
DTSTAMP:20260422T053459
CREATED:20181016T155327Z
LAST-MODIFIED:20181016T155327Z
UID:454-1542412800-1542499199@coppermeadowseventing.com
SUMMARY:Look B4 You Leap Clinic
DESCRIPTION:
URL:https://coppermeadowseventing.com/event/look-b4-you-leap-clinic-2/
CATEGORIES:Clinics
END:VEVENT
BEGIN:VEVENT
DTSTART;VALUE=DATE:20181028
DTEND;VALUE=DATE:20181029
DTSTAMP:20260422T053459
CREATED:20181016T155220Z
LAST-MODIFIED:20181016T155220Z
UID:452-1540684800-1540771199@coppermeadowseventing.com
SUMMARY:Sun Series One-Day Horse Trial
DESCRIPTION:
URL:https://coppermeadowseventing.com/event/sun-series-one-day-horse-trial/
CATEGORIES:Unrecognized Shows
END:VEVENT
BEGIN:VEVENT
DTSTART;VALUE=DATE:20181027
DTEND;VALUE=DATE:20181028
DTSTAMP:20260422T053459
CREATED:20181016T155106Z
LAST-MODIFIED:20181016T155106Z
UID:450-1540598400-1540684799@coppermeadowseventing.com
SUMMARY:Look B4 You Leap Clinic
DESCRIPTION:
URL:https://coppermeadowseventing.com/event/look-b4-you-leap-clinic/
CATEGORIES:Clinics
END:VEVENT
END:VCALENDAR